BEGIN:VCALENDAR
VERSION:2.0
PRODID:-//ChamberMaster//Event Calendar 2.0//EN
METHOD:PUBLISH
X-PUBLISHED-TTL:P3D
REFRESH-INTERVAL:P3D
CALSCALE:GREGORIAN
BEGIN:VEVENT
DTSTART:20200429T150000Z
DTEND:20200429T160000Z
X-MICROSOFT-CDO-ALLDAYEVENT:FALSE
SUMMARY:Sole Proprietor Businesses Webinar
DESCRIPTION:Provided by the Maine State Chamber of Commerce\n\n\n\nThis Webinar will focus on the short and long term issues arising from the pandemic for sole proprietors with suggested solutions. Topics covered will include a review of up-to-date federal and state legislative opportunities\, tax issues to discuss with your accountant\, insurance liability\, health insurance options\, credit protection\, and steps for sole proprietor to take with its customers. There will also be a brief review of pertinent estate planning options given that there is a pandemic. \n\n\n\nTo register for this webinar\, please click the link below. After registering\, you will receive a confirmation email containing information about joining the webinar.\n\n\n\nhttps://web.mainechamber.org/events/Webinarfor%20Sole%20Proprietor%20Businesses%20%20Navigating%20the%20Covid19%20Pandemic%20%20-448/details
X-ALT-DESC;FMTTYPE=text/html:Provided by the Maine State Chamber of Commerce<br />\n<br />\n<span style="color: rgb(29\, 33\, 41)\; font-family: Helvetica\, Arial\, sans-serif\; font-size: 14px\; white-space: pre-wrap\;">This Webinar will focus on the short and long term issues arising from the pandemic for sole proprietors with suggested solutions. Topics covered will include a review of up-to-date federal and state legislative opportunities\, tax issues to discuss with your accountant\, insurance liability\, health insurance options\, credit protection\, and steps for sole proprietor to take with its customers. There will also be a brief review of pertinent estate planning options given that there is a pandemic. </span><br style="color: rgb(29\, 33\, 41)\; font-family: Helvetica\, Arial\, sans-serif\; font-size: 14px\; white-space: pre-wrap\;" />\n<br style="color: rgb(29\, 33\, 41)\; font-family: Helvetica\, Arial\, sans-serif\; font-size: 14px\; white-space: pre-wrap\;" />\n<span style="color: rgb(29\, 33\, 41)\; font-family: Helvetica\, Arial\, sans-serif\; font-size: 14px\; white-space: pre-wrap\;">To register for this webinar\, please click the link below. After registering\, you will receive a confirmation email containing information about joining the webinar.</span><br style="color: rgb(29\, 33\, 41)\; font-family: Helvetica\, Arial\, sans-serif\; font-size: 14px\; white-space: pre-wrap\;" />\n<br style="color: rgb(29\, 33\, 41)\; font-family: Helvetica\, Arial\, sans-serif\; font-size: 14px\; white-space: pre-wrap\;" />\n<a data-auth="NotApplicable" href="https://web.mainechamber.org/events/Webinarfor%20Sole%20Proprietor%20Businesses%20%20Navigating%20the%20Covid19%20Pandemic%20%20-448/details" rel="noopener noreferrer" style="margin: 0px\; padding: 0px\; border: 0px\; font-variant-numeric: inherit\; font-variant-east-asian: inherit\; font-stretch: inherit\; font-size: 14.6667px\; line-height: inherit\; font-family: Calibri\, sans-serif\; vertical-align: baseline\;" target="_blank">https://web.mainechamber.org/events/Webinarfor%20Sole%20Proprietor%20Businesses%20%20Navigating%20the%20Covid19%20Pandemic%20%20-448/details</a>
LOCATION:ZOOM Video Conferencing
UID:e.3098.3295
SEQUENCE:3
DTSTAMP:20260421T105040Z
URL:https://business.belfastmaine.org/events/details/sole-proprietor-businesses-webinar-3295
END:VEVENT

END:VCALENDAR
