BEGIN:VCALENDAR
VERSION:2.0
PRODID:-//ChamberMaster//Event Calendar 2.0//EN
METHOD:PUBLISH
X-PUBLISHED-TTL:P3D
REFRESH-INTERVAL:P3D
CALSCALE:GREGORIAN
BEGIN:VEVENT
DTSTART:20201021T140000Z
DTEND:20201031T040000Z
X-MICROSOFT-CDO-ALLDAYEVENT:FALSE
SUMMARY:Spooktacular Facebook Costume Contest
DESCRIPTION:Last year\, Splendiferous Sweet Shoppe in Searsport had an amazing time with our Costume Contest and are excited to announce that we are holding a virtual one this year! Beginning today you DM us a picture of your costume this year (both adults and children). We will be posting them on Sunday night (October 25th). Voting will begin immediately and continue until Midnight October 30th. We will announce the winners live Halloween at 11 AM along with our candy jar winner! The winner in the child category will receive a 10.00 gift certificate and Halloween theme hot chocolate bomb. The winner for the adults will receive a 20.00 gift certificate and a box of 4 bonbons.\n\nThis year we also want to help out our neighboring shop with their Pay It Forward Kids (\nhttps://www.facebook.com/theaquariangiftshop/\n) so for every entry we recieve we will contribute 1.00 to this amazing outreach to help families in our area!
X-ALT-DESC;FMTTYPE=text/html:<span style="color: rgb(5\, 5\, 5)\; font-family: &quot\;Segoe UI Historic&quot\;\, &quot\;Segoe UI&quot\;\, Helvetica\, Arial\, sans-serif\; font-size: 15px\;">Last year\, Splendiferous Sweet Shoppe in Searsport had an amazing time with our Costume Contest and are excited to announce that we are holding a virtual one this year! Beginning today you DM us a picture of your costume this year (both adults and children). We will be posting them on Sunday night (October 25th). Voting will begin immediately and continue until Midnight October 30th. We will announce the winners live Halloween at 11 AM along with our candy jar winner! The winner in the child category will receive a 10.00 gift certificate and Halloween theme hot chocolate bomb. The winner for the adults will receive a 20.00 gift certificate and a box of 4 bonbons.</span><br style="color: rgb(5\, 5\, 5)\; font-family: &quot\;Segoe UI Historic&quot\;\, &quot\;Segoe UI&quot\;\, Helvetica\, Arial\, sans-serif\; font-size: 15px\;" />\n<span style="color: rgb(5\, 5\, 5)\; font-family: &quot\;Segoe UI Historic&quot\;\, &quot\;Segoe UI&quot\;\, Helvetica\, Arial\, sans-serif\; font-size: 15px\;">This year we also want to help out our neighboring shop with their Pay It Forward Kids (</span>\n<div class="nc684nl6" style="display: inline\; font-family: inherit\;"><a class="oajrlxb2 g5ia77u1 qu0x051f esr5mh6w e9989ue4 r7d6kgcz rq0escxv nhd2j8a9 nc684nl6 p7hjln8o kvgmc6g5 cxmmr5t8 oygrvhab hcukyx3x jb3vyjys rz4wbd8a qt6c0cv9 a8nywdso i1ao9s8h esuyzwwr f1sip0of lzcic4wl oo9gr5id gpro0wi8 lrazzd5p" href="https://www.facebook.com/theaquariangiftshop/" role="link" style="color: var(--primary-text)\; cursor: pointer\; text-decoration-line: none\; outline: none\; list-style: none\; border-width: 0px\; border-style: initial\; border-color: initial\; padding: 0px\; margin: 0px\; touch-action: manipulation\; font-weight: 600\; display: inline\; -webkit-tap-highlight-color: transparent\; box-sizing: border-box\; font-family: &quot\;Segoe UI Historic&quot\;\, &quot\;Segoe UI&quot\;\, Helvetica\, Arial\, sans-serif\; font-size: 15px\;" tabindex="0"><span style="font-family: inherit\;">https://www.facebook.com/theaquariangiftshop/</span></a></div>\n<span style="color: rgb(5\, 5\, 5)\; font-family: &quot\;Segoe UI Historic&quot\;\, &quot\;Segoe UI&quot\;\, Helvetica\, Arial\, sans-serif\; font-size: 15px\;">) so for every entry we recieve we will contribute 1.00 to this amazing outreach to help families in our area!</span>
LOCATION:
UID:e.3098.3433
SEQUENCE:3
DTSTAMP:20260422T084538Z
URL:https://business.belfastmaine.org/events/details/spooktacular-facebook-costume-contest-3433
END:VEVENT

END:VCALENDAR
