BEGIN:VCALENDAR
VERSION:2.0
PRODID:-//ChamberMaster//Event Calendar 2.0//EN
METHOD:PUBLISH
X-PUBLISHED-TTL:P3D
REFRESH-INTERVAL:P3D
CALSCALE:GREGORIAN
BEGIN:VEVENT
DTSTART:20200822T180000Z
DTEND:20200823T010000Z
X-MICROSOFT-CDO-ALLDAYEVENT:FALSE
SUMMARY:Stress Relief! Outdoor Women's Retreat
DESCRIPTION:Are you ready for an afternoon and evening of healthy outdoor pleasantness\, and respite from the general pandemic social stress? Join Health Coach Khalsa here at Daylily Farm\, the home of Essence Of Healing LLC. Daylily Farm borders the Monroe Falls so we are going to start our fun with a cooling swim below Monroe Falls\, note: there is a spot on the left side to sit with the water falling onto your shoulders giving you a gentle massage\; after the cooling swim we'll play barefoot on the grass\, no\, you are not too grown up to play on the grass!  After we play we'll harvest organically grown food from the garden\, and together\, we'll prepare our fresh\, yummy\, healthy veggies for a rainbow-licious dinner. For dessert\, we'll make a simple\, yet surprisingly delicious non-dairy ice cream! \n\n\n\nAnd Then: We'll space ourselves around a campfire\, and have a good old traditional talking circle with a theme that supports your sense of wellbeing and aliveness. \n\n\n\nI enjoy helping wise women like you to experience feeling fully alive again so you can feel energy & joy\, plus the inspiration from within that may just rekindle your desire to share your life wisdom in this world that desperately needs it right now.\n\n\n\nIn the spirit of your health\, wellness & enhanced wellbeing register with this link today. https://py.pl/8nK9YfqlhQe
X-ALT-DESC;FMTTYPE=text/html:<p><em>Are you ready for an afternoon and evening of healthy outdoor pleasantness\, and respite from the general pandemic social stress? Join Health Coach Khalsa here at Daylily Farm\, the home of Essence Of Healing LLC. Daylily Farm borders the Monroe Falls so we are going to start our fun with a cooling swim below Monroe Falls\, note: there is a spot on the left side to sit with the water falling onto your shoulders giving you a gentle massage\; after the cooling swim we&#39\;ll play barefoot on the grass\, no\, you are not too grown up to play on the grass!&nbsp\; After we play we&#39\;ll harvest organically grown food from the garden\, and together\, we&#39\;ll&nbsp\;prepare our fresh\, yummy\, healthy veggies for a rainbow-licious dinner. For dessert\, we&#39\;ll make a simple\, yet surprisingly delicious non-dairy ice cream!&nbsp\;<br />\n<br />\nAnd&nbsp\;Then: We&#39\;ll space ourselves around a campfire\, and have a good old traditional talking circle with a theme that supports your sense of wellbeing and aliveness.&nbsp\;<br />\n<br />\nI enjoy helping wise women like you to experience feeling fully alive again so you can feel energy &amp\; joy\, plus the inspiration from within that may just rekindle your desire to share your life wisdom in this world that desperately needs it right now.<br />\n<br />\nIn the spirit of your health\, wellness &amp\; enhanced wellbeing register with this link today.&nbsp\;</em>https://py.pl/8nK9YfqlhQe</p>\n
LOCATION:Location: 3 Garden Rd\, Monroe\, Maine When you get close make sure you take N. Center Rd off from Rt. 139 (NOTE: don't let your gps take you to S. Center rd the bridge is closed)
UID:e.3098.3347
SEQUENCE:3
DTSTAMP:20260422T122835Z
URL:https://business.belfastmaine.org/events/details/stress-relief-outdoor-women-s-retreat-3347
END:VEVENT

END:VCALENDAR
