BEGIN:VCALENDAR
VERSION:2.0
PRODID:-//ChamberMaster//Event Calendar 2.0//EN
METHOD:PUBLISH
X-PUBLISHED-TTL:P3D
REFRESH-INTERVAL:P3D
CALSCALE:GREGORIAN
BEGIN:VEVENT
DTSTART:20200425T140000Z
DTEND:20200425T160000Z
X-MICROSOFT-CDO-ALLDAYEVENT:FALSE
SUMMARY:Sweet n Sour: Annual Lincolnville Pickling & Preserving Cooking Class
DESCRIPTION:Join the Lincolnville Business Group and Instructor Amy Barnard (representing Maine Extension Service) for the annual Pickles Preserves and Pies Cooking Class! This year the class will be themed "Sweet n Sour" and focuses on preserving pie fillings and chutneys\, creative refrigerator pickles\, and making shrubs. Class will be held at the Cellardoor Winery kitchen on Youngtown Rd in Lincolnville and cost is $25 per person. Please purchase in advance your ticket via Brown Paper Tickets at https://sweetnsour.bpt.me/. \n\nMax class size is 16. Questions! Call Jane 323-1837.\n\n \n\nCost of class includes supplies\, instruction\, and venue. Remaining proceeds goes to the Lincolnville Business Group Scholarship Fund for area students. The Lincolnville Business Group is a 501c3 non-profit organization.\n\n \n\nVendors are being sought for the October 3rd Pickles Preserves and Pies at Lincolnville Beach. Contact Jane if you are interested in selling pickles\, jams\, jellies\, pies\, and related harvest items.
X-ALT-DESC;FMTTYPE=text/html:<span style="background:yellow\;"><span style="font-family:helvetica\,sans-serif\;"><span style="font-size:12.0pt\;"><span style="color:#000000\;"><span style="background-color:#FFFFFF\;">Join the Lincolnville Business Group and Instructor Amy Barnard (representing Maine Extension Service) for the annual Pickles Preserves and Pies Cooking Class! This year the class will be themed &quot\;Sweet n Sour&quot\; and focuses on preserving pie fillings and chutneys\, creative refrigerator pickles\, and making shrubs. Class will be held at the Cellardoor Winery kitchen on Youngtown Rd in Lincolnville and cost is $25 per person. Please purchase in advance your ticket via Brown Paper Tickets at&nbsp\;<a href="https://sweetnsour.bpt.me/">https://sweetnsour.bpt.me/</a>.&nbsp\;</span></span></span></span></span><br />\n<span style="color:#000000\;"><span style="background:yellow\;"><span style="font-family:helvetica\,sans-serif\;"><span style="font-size:12.0pt\;"><span style="background-color:#FFFFFF\;">Max class size is 16. Questions! Call Jane 323-1837.</span></span></span></span><br />\n<span style="background-color:#FFFFFF\;">&nbsp\;</span><br />\n<span style="background:yellow\;"><span style="font-family:helvetica\,sans-serif\;"><span style="font-size:12.0pt\;"><span style="background-color:#FFFFFF\;">Cost of class includes supplies\, instruction\, and venue. Remaining proceeds goes to the Lincolnville Business Group Scholarship Fund for area students. The Lincolnville Business Group is a 501c3 non-profit organization.</span></span></span></span><br />\n<span style="background-color:#FFFFFF\;">&nbsp\;</span><br />\n<span style="background:yellow\;"><span style="font-family:helvetica\,sans-serif\;"><span style="font-size:12.0pt\;"><span style="background-color:#FFFFFF\;">Vendors are being sought for the October 3rd Pickles Preserves and Pies at Lincolnville Beach. Contact Jane if you are interested in selling pickles\, jams\, jellies\, pies\, and related harvest items.</span></span></span></span><span style="background-color:#FFFFFF\;">&nbsp\;</span></span>
LOCATION:Cellardoor Winery at 367 Youngtown Rd in Lincolnville
UID:e.3098.3092
SEQUENCE:3
DTSTAMP:20260422T191335Z
URL:https://business.belfastmaine.org/events/details/sweet-n-sour-annual-lincolnville-pickling-preserving-cooking-class-3092
END:VEVENT

END:VCALENDAR
