BEGIN:VCALENDAR
VERSION:2.0
PRODID:-//ChamberMaster//Event Calendar 2.0//EN
METHOD:PUBLISH
X-PUBLISHED-TTL:P3D
REFRESH-INTERVAL:P3D
CALSCALE:GREGORIAN
BEGIN:VEVENT
DTSTART:20201029T230000Z
DTEND:20201101T003000Z
X-MICROSOFT-CDO-ALLDAYEVENT:FALSE
SUMMARY:Tales from the Muck @ Belfast Maskers
DESCRIPTION:Fresh off the heels of its sold-out production of "Five Socially-distanced Comedies"\, Belfast Maskers is taking a darker turn with "Tales From the Muck"\, an anthology of short horror plays.\n\nAll recommended social-distancing and sanitation recommendations will be followed and\, as a result\, just 45 seats will be available for each evening's performance and can only be purchased online at BefastMaskers.com for $10. AUDIENCE MEMBERS SHOULD BRING THEIR OWN CHAIRS AND DRESS WARMLY!\n\nPerformances will be at 7 PM on October 29th and 30th\, with two shows on Halloween\, October 31 a 5:00 show that will be toned down a bit for younger audiences  and a final show at 7 PM\, though parental discretion is still advised.
X-ALT-DESC;FMTTYPE=text/html:<span style="color: rgb(5\, 5\, 5)\; font-family: &quot\;Segoe UI Historic&quot\;\, &quot\;Segoe UI&quot\;\, Helvetica\, Arial\, sans-serif\; font-size: 15px\;">Fresh off the heels of its sold-out production of &ldquo\;Five Socially-distanced Comedies&rdquo\;\, Belfast&nbsp\;</span><span style="color: rgb(5\, 5\, 5)\; font-family: &quot\;Segoe UI Historic&quot\;\, &quot\;Segoe UI&quot\;\, Helvetica\, Arial\, sans-serif\; font-size: 15px\;">Maskers is taking a darker turn with &ldquo\;Tales From the Muck&rdquo\;\, an anthology of short horror plays.</span><br style="color: rgb(5\, 5\, 5)\; font-family: &quot\;Segoe UI Historic&quot\;\, &quot\;Segoe UI&quot\;\, Helvetica\, Arial\, sans-serif\; font-size: 15px\;" />\n<span style="color: rgb(5\, 5\, 5)\; font-family: &quot\;Segoe UI Historic&quot\;\, &quot\;Segoe UI&quot\;\, Helvetica\, Arial\, sans-serif\; font-size: 15px\;">All recommended social-distancing and sanitation recommendations will be followed and\, as a&nbsp\;</span><span style="color: rgb(5\, 5\, 5)\; font-family: &quot\;Segoe UI Historic&quot\;\, &quot\;Segoe UI&quot\;\, Helvetica\, Arial\, sans-serif\; font-size: 15px\;">result\, just 45 seats will be available for each evening&rsquo\;s performance and can only be purchased&nbsp\;</span><span style="color: rgb(5\, 5\, 5)\; font-family: &quot\;Segoe UI Historic&quot\;\, &quot\;Segoe UI&quot\;\, Helvetica\, Arial\, sans-serif\; font-size: 15px\;">online at&nbsp\;</span><a class="oajrlxb2 g5ia77u1 qu0x051f esr5mh6w e9989ue4 r7d6kgcz rq0escxv nhd2j8a9 nc684nl6 p7hjln8o kvgmc6g5 cxmmr5t8 oygrvhab hcukyx3x jb3vyjys rz4wbd8a qt6c0cv9 a8nywdso i1ao9s8h esuyzwwr f1sip0of lzcic4wl py34i1dx gpro0wi8" href="http://befastmaskers.com/?fbclid=IwAR1KIz8N90i2C_i0bFvoRTIe3Kw5p6iyU7tYY2lPBd35CH3Ikuzg7OZlShY" rel="nofollow noopener" role="link" style="color: var(--blue-link)\; cursor: pointer\; text-decoration-line: none\; outline: none\; list-style: none\; border-width: 0px\; border-style: initial\; border-color: initial\; padding: 0px\; margin: 0px\; touch-action: manipulation\; display: inline\; -webkit-tap-highlight-color: transparent\; box-sizing: border-box\; font-family: &quot\;Segoe UI Historic&quot\;\, &quot\;Segoe UI&quot\;\, Helvetica\, Arial\, sans-serif\; font-size: 15px\;" tabindex="0" target="_blank">BefastMaskers.com</a><span style="color: rgb(5\, 5\, 5)\; font-family: &quot\;Segoe UI Historic&quot\;\, &quot\;Segoe UI&quot\;\, Helvetica\, Arial\, sans-serif\; font-size: 15px\;">&nbsp\;for $10. AUDIENCE MEMBERS SHOULD BRING THEIR OWN CHAIRS&nbsp\;</span><span style="color: rgb(5\, 5\, 5)\; font-family: &quot\;Segoe UI Historic&quot\;\, &quot\;Segoe UI&quot\;\, Helvetica\, Arial\, sans-serif\; font-size: 15px\;">AND DRESS WARMLY!</span><br style="color: rgb(5\, 5\, 5)\; font-family: &quot\;Segoe UI Historic&quot\;\, &quot\;Segoe UI&quot\;\, Helvetica\, Arial\, sans-serif\; font-size: 15px\;" />\n<span style="color: rgb(5\, 5\, 5)\; font-family: &quot\;Segoe UI Historic&quot\;\, &quot\;Segoe UI&quot\;\, Helvetica\, Arial\, sans-serif\; font-size: 15px\;">Performances will be at 7 PM on October 29th and 30th\, with two shows on&nbsp\;</span><span style="color: rgb(5\, 5\, 5)\; font-family: &quot\;Segoe UI Historic&quot\;\, &quot\;Segoe UI&quot\;\, Helvetica\, Arial\, sans-serif\; font-size: 15px\;">Halloween\, October 31&mdash\;a 5:00 show that will be toned down a bit for younger audiences &mdash\;and a final show at 7 PM\,&nbsp\;</span><span style="color: rgb(5\, 5\, 5)\; font-family: &quot\;Segoe UI Historic&quot\;\, &quot\;Segoe UI&quot\;\, Helvetica\, Arial\, sans-serif\; font-size: 15px\;">though parental discretion is still advised.</span>
LOCATION:The Basil Burwell Community Theater\, 17 Court St. Belfast
UID:e.3098.3419
SEQUENCE:3
DTSTAMP:20260422T084933Z
URL:https://business.belfastmaine.org/events/details/tales-from-the-muck-belfast-maskers-3419
END:VEVENT

END:VCALENDAR
