BEGIN:VCALENDAR
VERSION:2.0
PRODID:-//ChamberMaster//Event Calendar 2.0//EN
METHOD:PUBLISH
X-PUBLISHED-TTL:P3D
REFRESH-INTERVAL:P3D
CALSCALE:GREGORIAN
BEGIN:VEVENT
DTSTART:20250316T200000Z
DTEND:20250316T213000Z
X-MICROSOFT-CDO-ALLDAYEVENT:FALSE
SUMMARY:The Playhouse - Foolish Fishgirls and the Pearl
DESCRIPTION:Do you believe in Love at First Sight? With a Mermaid?\n\n\n\nThe Playhouse proudly presents 'Foolish Fishgirls and the Pearl\,' a comedy for adults.\n\n\n\nMarch 14\, 15\, 16 and March 21\, 22\, and 23\; Friday and Saturday at 7:30 and Sunday at 4:00.\n\n\n\nThis love story was written by Barbara Pease Weber and is directed by Mary Weaver.\n\n\n\nA Fairy Tale of Love is just what is needed to cheer us up in this frozen season. An accident on a slippery bridge\, a car crashing into the freezing bay\, and an amazing rescue give us a vision of a Mermaid and others caught in a storm at the 'Sea Hags' a weathered old inn off the coast of Maine. It features favorite Playhouse actors: Peter Conant\, Lisa Goodridge\, Isobel Holt\, Sasha Kutsy\, Ivy Lobato\, Nate Marx\, and Leslie Stein. Their story is full of surprises and laughs.\n\n\n\nThe Playhouse is at 107 Church Street in downtown Belfast. The door opens 15 minutes before Curtain and admission is $20\, paid at the door. Reservations are highly suggested and made by calling the box office at 207-338-5777.
X-ALT-DESC;FMTTYPE=text/html:Do you believe in Love at First Sight? With a Mermaid?<br />\n<br />\nThe Playhouse proudly presents &#39\;<strong>Foolish Fishgirls and the Pearl</strong>\,&#39\; a comedy for adults.<br />\n<br />\nMarch 14\, 15\, 16 and March 21\, 22\, and 23\; Friday and Saturday at 7:30 and Sunday at 4:00.<br />\n<br />\nThis love story was written by Barbara Pease Weber and is directed by Mary Weaver.<br />\n<br />\nA Fairy Tale of Love is just what is needed to cheer us up in this frozen season. An accident on a slippery bridge\, a car crashing into the freezing bay\, and an amazing rescue give us a vision of a Mermaid and others caught in a storm at the &#39\;Sea Hags&#39\; a weathered old inn off the coast of Maine. It features favorite Playhouse actors: Peter Conant\, Lisa Goodridge\, Isobel Holt\, Sasha Kutsy\, Ivy Lobato\, Nate Marx\, and Leslie Stein. Their story is full of surprises and laughs.<br />\n<br />\nThe Playhouse is at 107 Church Street in downtown Belfast. The door opens 15 minutes before Curtain and admission is $20\, paid at the door. Reservations are highly suggested and made by calling the box office at 207-338-5777.
LOCATION:The Playhouse\, 107 Church St. Belfast
UID:e.3098.10574
SEQUENCE:3
DTSTAMP:20260422T191422Z
URL:https://business.belfastmaine.org/events/details/the-playhouse-foolish-fishgirls-and-the-pearl-10574
END:VEVENT

END:VCALENDAR
