BEGIN:VCALENDAR
VERSION:2.0
PRODID:-//ChamberMaster//Event Calendar 2.0//EN
METHOD:PUBLISH
X-PUBLISHED-TTL:P3D
REFRESH-INTERVAL:P3D
CALSCALE:GREGORIAN
BEGIN:VEVENT
DTSTART:20200928T230000Z
DTEND:20200929T000000Z
X-MICROSOFT-CDO-ALLDAYEVENT:FALSE
SUMMARY:The Presidential Yacht Sequoia
DESCRIPTION:The Presidential Yacht Sequoia her illustrious history\, how she came to Belfast and the plan for restoration. Since her arrival one year ago in Belfast\, you may want to find out what's in store for what is called "the floating White House" in order to make this National Historic Landmark shine again.\n\nTodd French French & Webb Boatbuilders
X-ALT-DESC;FMTTYPE=text/html:<span style="color: rgb(29\, 33\, 41)\; font-family: Helvetica\, Arial\, sans-serif\; font-size: 14px\; white-space: pre-wrap\;">The Presidential Yacht Sequoia her illustrious history\, how she came to Belfast and the plan for restoration. Since her arrival one year ago in Belfast\, you may want to find out what&rsquo\;s in store for what is called &ldquo\;the floating White House&rdquo\; in order to make this National Historic Landmark shine again.</span><br style="color: rgb(29\, 33\, 41)\; font-family: Helvetica\, Arial\, sans-serif\; font-size: 14px\; white-space: pre-wrap\;" />\n<span style="color: rgb(29\, 33\, 41)\; font-family: Helvetica\, Arial\, sans-serif\; font-size: 14px\; white-space: pre-wrap\;">Todd French French &amp\; Webb Boatbuilders</span>
LOCATION:Belfast Free Library
UID:e.3098.3337
SEQUENCE:3
DTSTAMP:20260422T104500Z
URL:https://business.belfastmaine.org/events/details/the-presidential-yacht-sequoia-3337
END:VEVENT

END:VCALENDAR
