BEGIN:VCALENDAR
VERSION:2.0
PRODID:-//ChamberMaster//Event Calendar 2.0//EN
METHOD:PUBLISH
X-PUBLISHED-TTL:P3D
REFRESH-INTERVAL:P3D
CALSCALE:GREGORIAN
BEGIN:VEVENT
DTSTART:20250518T190000Z
DTEND:20250518T200000Z
X-MICROSOFT-CDO-ALLDAYEVENT:FALSE
SUMMARY:The Sea Strings in Concert
DESCRIPTION:The Sea Strings IN CONCERT\n\nSunday\, May 18\, 3:00 PM\n\nSearsport First Congregational Church\, 8 Church St.\n\n\n\nThe Sea Strings play:\n\n  Fiddle tunes from the New England contra dance tradition\n\n  Traditional music of French and Atlantic Canada\n\n  English country dance\n\n  Irish jigs and reels\n\n  Old-timey music\n\n  Gypsy jazz\n\n  And the occasional song!\n\n\n\nAdmission by donation\, with students admitted free. All proceeds benefit the FCC Outreach Concert Series
X-ALT-DESC;FMTTYPE=text/html:The Sea Strings IN CONCERT<br />\nSunday\, May 18\, 3:00 PM<br />\nSearsport First Congregational Church\, 8 Church St.<br />\n<br />\nThe Sea Strings play:<br />\n&bull\; Fiddle tunes from the New England contra dance tradition<br />\n&bull\; Traditional music of French and Atlantic Canada<br />\n&bull\; English country dance<br />\n&bull\; Irish jigs and reels<br />\n&bull\; Old-timey music<br />\n&bull\; Gypsy jazz<br />\n&bull\; And the occasional song!<br />\n<br />\nAdmission by donation\, with students admitted free. All proceeds benefit the FCC Outreach Concert Series
LOCATION:
UID:e.3098.10686
SEQUENCE:3
DTSTAMP:20260426T015002Z
URL:https://business.belfastmaine.org/events/details/the-sea-strings-in-concert-10686
END:VEVENT

END:VCALENDAR
