BEGIN:VCALENDAR
VERSION:2.0
PRODID:-//ChamberMaster//Event Calendar 2.0//EN
METHOD:PUBLISH
X-PUBLISHED-TTL:P3D
REFRESH-INTERVAL:P3D
CALSCALE:GREGORIAN
BEGIN:VEVENT
DTSTART:20250531T120000Z
DTEND:20250531T220000Z
X-MICROSOFT-CDO-ALLDAYEVENT:FALSE
SUMMARY:The Side Street Gallery & Gifts Season Opening
DESCRIPTION:2025 Grand Opening\n\nMay 31st - 17 Mt. Ephraim Rd\, Searsport\, ME - 207-548-0281\n\n\n\n~ Raffle for art works\n\n~ Refreshments\n\n~ Information on upcoming free workshops
X-ALT-DESC;FMTTYPE=text/html:<strong>2025 Grand Opening</strong><br />\nMay 31st - 17 Mt. Ephraim Rd\, Searsport\, ME - 207-548-0281<br />\n<br />\n~ Raffle for art works<br />\n~ Refreshments<br />\n~&nbsp\;Information on upcoming free workshops
LOCATION:
UID:e.3098.10705
SEQUENCE:3
DTSTAMP:20260426T015228Z
URL:https://business.belfastmaine.org/events/details/the-side-street-gallery-gifts-season-opening-10705
END:VEVENT

END:VCALENDAR
