BEGIN:VCALENDAR
VERSION:2.0
PRODID:-//ChamberMaster//Event Calendar 2.0//EN
METHOD:PUBLISH
X-PUBLISHED-TTL:P3D
REFRESH-INTERVAL:P3D
CALSCALE:GREGORIAN
BEGIN:VEVENT
DTSTART:20250112T000000Z
DTEND:20250112T020000Z
X-MICROSOFT-CDO-ALLDAYEVENT:FALSE
SUMMARY:Tom DiMenna: Story Songs
DESCRIPTION:Tom DiMenna and friends resurrect some of the 70s greatest story songs from three of the era's greatest singer/songwriters: Cat Stevens\, Gordon Lightfoot\, and Harry Chapin. This devoted review will feature Maine based singer/songwriter Tom DiMenna\, whose tribute shows have sold out opera houses up and down the Maine coast.\n\nDiMenna's impressive vocal range and guitar style artfully channel all of these revered artists\, and will surely satisfy their most die hard fans. Tom will also be backed with accompaniment to provide plenty of toe tapping for this very special evening. This is your chance to see what all the buzz is about. You may even be moved to sing along\, or at least hum!  The legend lives on! \n\n\n"Go See Tom!" -Aimsel Ponti\, Portland Press Herald
X-ALT-DESC;FMTTYPE=text/html:<div>\n<div>Tom DiMenna and friends resurrect some of the 70s greatest story songs from three of the era&rsquo\;s greatest singer/songwriters: Cat Stevens\, Gordon Lightfoot\, and Harry Chapin. This devoted review will feature Maine based singer/songwriter Tom DiMenna\, whose tribute shows have sold out opera houses up and down the Maine coast.</div>\n\n<div>DiMenna&rsquo\;s&nbsp\;impressive vocal range and guitar style artfully&nbsp\;channel all of these revered artists\, and will surely satisfy their most die hard fans. Tom will also be backed with accompaniment to provide plenty of toe tapping for this very special evening. This&nbsp\;is your chance to see what all the buzz is about.&nbsp\;You may even be moved to sing along\, or at least hum!&nbsp\; The legend lives on!&nbsp\;</div>\n</div>\n\n<div><strong>&quot\;Go See Tom!&quot\;</strong>&nbsp\;<strong><em>-Aimsel Ponti\, Portland Press Herald</em></strong></div>\n
LOCATION:
UID:e.3098.10097
SEQUENCE:3
DTSTAMP:20260422T154955Z
URL:https://business.belfastmaine.org/events/details/tom-dimenna-story-songs-10097
END:VEVENT

END:VCALENDAR
