BEGIN:VCALENDAR
VERSION:2.0
PRODID:-//ChamberMaster//Event Calendar 2.0//EN
METHOD:PUBLISH
X-PUBLISHED-TTL:P3D
REFRESH-INTERVAL:P3D
CALSCALE:GREGORIAN
BEGIN:VEVENT
DTSTART:20250311T200000Z
DTEND:20250311T230000Z
X-MICROSOFT-CDO-ALLDAYEVENT:FALSE
SUMMARY:UMC Volunteer Recruitment Expo
DESCRIPTION:UMC Volunteer Recruitment Expo\n						\n						\n					\n				\n			\n			\n		\n		\n			\n			\n				\n					\n						\n						\n						Are you passionate about making a difference or looking for a meaningful way to give back? Join us for the Volunteer Recruitment Expo\, hosted by UMC\, and sponsored by the City of Rockland\, 106.9 Frank FM\, and 105.5 The Wolf. If you are interested in becoming a sponsor of this community-wide event please reach out to Eileen at UMC.\n\n						 \n\n						Why Attend?\n\n						\n							\n							Connect with Local Nonprofit Organizations and Agencies. Meet representatives from various organizations in need of volunteers like you.\n							\n							\n							Explore Volunteer Opportunities: Discover roles that align with your interests and availability.\n							\n							\n							Make an Impact: Learn how your unique skills and passions can benefit the greater good.\n							\n						\n\n						 \n\n						Event Details:\n\n						\n							\n							Date: Tuesday\, March 11\, 2025\n							\n							\n							Time: 4:00-7:00 p.m.\n							\n							\n							Location: Flanagan Center\, 61 Limerock St.\, Rockland\n							\n							\n							FREE to attend\, all ages welcome.\n							\n						\n\n						 \n\n						The City of Rockland initiated this event two years ago and has handed it over to UMC. We have embraced it to further our mission of supporting local nonprofits. While the expo primarily serves the Knox County region\, we are excited to explore the possibility of hosting a similar expo in Belfast to boost support for Waldo County nonprofits.
X-ALT-DESC;FMTTYPE=text/html:<table border="0" cellpadding="0" cellspacing="0" role="presentation" style="font-variant-numeric: inherit\; font-variant-east-asian: inherit\; font-variant-alternates: inherit\; font-variant-position: inherit\; font-variant-emoji: inherit\; font-stretch: inherit\; font-size: 15px\; line-height: inherit\; font-family: &quot\;Segoe UI&quot\;\, &quot\;Segoe UI Web (West European)&quot\;\, -apple-system\, BlinkMacSystemFont\, Roboto\, &quot\;Helvetica Neue&quot\;\, sans-serif\; font-optical-sizing: inherit\; font-size-adjust: inherit\; font-kerning: inherit\; font-feature-settings: inherit\; font-variation-settings: inherit\; border-collapse: collapse\; color: rgb(36\, 36\, 36)\;" width="100%">\n	<tbody>\n		<tr>\n			<td style="word-break: break-word\; padding: 0px\;" valign="top">\n			<table style="font: inherit\; border: 0px\; border-radius: 0px\;" width="100%">\n				<tbody>\n					<tr>\n						<td class="x_mceTextBlockContainer" style="word-break: break-word\; padding: 12px 24px\;">\n						<div class="x_mceText" data-block-id="10" id="x_dataBlockId-10" style="border: 0px\; font-style: inherit\; font-variant: inherit\; font-weight: inherit\; font-stretch: inherit\; font-size: inherit\; line-height: inherit\; font-family: &quot\;Helvetica Neue&quot\;\, Helvetica\, Arial\, Verdana\, sans-serif\; font-optical-sizing: inherit\; font-size-adjust: inherit\; font-kerning: inherit\; font-feature-settings: inherit\; font-variation-settings: inherit\; margin: 0px\; padding: 0px\; vertical-align: baseline\; color: rgb(0\, 0\, 0)\; width: 608px\;">\n						<h1 class="x_last-child" data-olk-copy-source="MessageBody" style="margin: 0px\; padding: 0px\; font-size: 31px\; font-weight: bold\; line-height: 1.5\; text-align: center\; direction: ltr\;">UMC Volunteer Recruitment Expo</h1>\n						</div>\n						</td>\n					</tr>\n				</tbody>\n			</table>\n			</td>\n		</tr>\n		<tr>\n			<td style="word-break: break-word\; padding: 0px\;" valign="top">\n			<table style="font: inherit\; border: 0px\; border-radius: 0px\;" width="100%">\n				<tbody>\n					<tr>\n						<td class="x_mceTextBlockContainer" style="word-break: break-word\; padding: 0px 24px\;">\n						<div class="x_mceText" data-block-id="145" id="x_dataBlockId-145" style="border: 0px\; font-style: inherit\; font-variant: inherit\; font-weight: inherit\; font-stretch: inherit\; font-size: inherit\; line-height: inherit\; font-family: &quot\;Helvetica Neue&quot\;\, Helvetica\, Arial\, Verdana\, sans-serif\; font-optical-sizing: inherit\; font-size-adjust: inherit\; font-kerning: inherit\; font-feature-settings: inherit\; font-variation-settings: inherit\; margin: 0px\; padding: 0px\; vertical-align: baseline\; color: rgb(0\, 0\, 0)\; width: 608px\;">\n						<p style="margin: 0px\; padding: 0px\; word-break: break-word\; font-size: 16px\; line-height: 1.5\; direction: ltr\;">Are you passionate about making a difference&nbsp\;<span style="border: 0px\; font: inherit\; margin: 0px\; padding: 0px\; vertical-align: baseline\;"><span style="border: 0px\; font-style: inherit\; font-variant: inherit\; font-weight: inherit\; font-stretch: inherit\; font-size: inherit\; line-height: inherit\; font-family: &quot\;Helvetica Neue&quot\;\, Helvetica\, Arial\, Verdana\, sans-serif\, serif\, EmojiFont\; font-optical-sizing: inherit\; font-size-adjust: inherit\; font-kerning: inherit\; font-feature-settings: inherit\; font-variation-settings: inherit\; margin: 0px\; padding: 0px\; vertical-align: baseline\; color: inherit\;">or looking for a meaningful way to give back? Join us for the Volunteer Recruitment Expo\, hosted by UMC\, and sponsored by the City of Rockland\, 106.9 Frank FM\, and 105.5 The Wolf. If you are interested in becoming a sponsor of this community-wide event please reach out to&nbsp\;</span></span><a data-linkindex="1" href="mailto:eileen@unitedmidcoastcharities.org?subject=I%20want%20to%20sponsor%20the%20UMC%20Volunteer%20Recruitment%20Expo&amp\;body=" style="border: 0px\; font-variant: inherit\; font-stretch: inherit\; font-size: inherit\; line-height: inherit\; font-family: inherit\; font-optical-sizing: inherit\; font-size-adjust: inherit\; font-kerning: inherit\; font-feature-settings: inherit\; font-variation-settings: inherit\; margin: 0px\; padding: 0px\; vertical-align: baseline\; word-break: break-word\; color: rgb(0\, 0\, 0)\; direction: ltr\;" title="mailto:eileen@unitedmidcoastcharities.org?subject=I%20want%20to%20sponsor%20the%20UMC%20Volunteer%20Recruitment%20Expo&amp\;body="><span style="border: 0px\; font-style: inherit\; font-variant: inherit\; font-weight: inherit\; font-stretch: inherit\; font-size: inherit\; line-height: inherit\; font-family: &quot\;Helvetica Neue&quot\;\, Helvetica\, Arial\, Verdana\, sans-serif\, serif\, EmojiFont\; font-optical-sizing: inherit\; font-size-adjust: inherit\; font-kerning: inherit\; font-feature-settings: inherit\; font-variation-settings: inherit\; margin: 0px\; padding: 0px\; vertical-align: baseline\; color: inherit\;">Eileen</span></a><span style="border: 0px\; font: inherit\; margin: 0px\; padding: 0px\; vertical-align: baseline\;"><span style="border: 0px\; font-style: inherit\; font-variant: inherit\; font-weight: inherit\; font-stretch: inherit\; font-size: inherit\; line-height: inherit\; font-family: &quot\;Helvetica Neue&quot\;\, Helvetica\, Arial\, Verdana\, sans-serif\, serif\, EmojiFont\; font-optical-sizing: inherit\; font-size-adjust: inherit\; font-kerning: inherit\; font-feature-settings: inherit\; font-variation-settings: inherit\; margin: 0px\; padding: 0px\; vertical-align: baseline\; color: inherit\;">&nbsp\;at UMC.</span></span></p>\n\n						<p style="margin: 0px\; padding: 0px\; word-break: break-word\; font-size: 16px\; line-height: 1.5\; direction: ltr\;">&nbsp\;</p>\n\n						<h4 style="margin: 0px\; padding: 0px\; font-size: 16px\; font-weight: bold\; line-height: 1.5\; direction: ltr\;"><span style="border: 0px\; font: inherit\; margin: 0px\; padding: 0px\; vertical-align: baseline\; color: rgb(0\, 144\, 211)\;"><span style="border: 0px\; font-style: inherit\; font-variant: inherit\; font-weight: inherit\; font-stretch: inherit\; font-size: inherit\; line-height: inherit\; font-family: &quot\;Helvetica Neue&quot\;\, Helvetica\, Arial\, Verdana\, sans-serif\, serif\, EmojiFont\; font-optical-sizing: inherit\; font-size-adjust: inherit\; font-kerning: inherit\; font-feature-settings: inherit\; font-variation-settings: inherit\; margin: 0px\; padding: 0px\; vertical-align: baseline\; color: inherit\;">Why Attend?</span></span></h4>\n\n						<ul style="margin-bottom: 0px\;">\n							<li>\n							<p style="margin-bottom: 0px\; padding: 0px\; word-break: break-word\; font-size: 16px\; line-height: 1.5\; direction: ltr\; margin-top: 0px !important\; margin-right: 0px !important\; margin-left: 0px !important\;"><span style="border: 0px\; font: inherit\; margin: 0px\; padding: 0px\; vertical-align: baseline\;"><span style="border: 0px\; font-style: inherit\; font-variant: inherit\; font-weight: inherit\; font-stretch: inherit\; font-size: inherit\; line-height: inherit\; font-family: &quot\;Helvetica Neue&quot\;\, Helvetica\, Arial\, Verdana\, sans-serif\, serif\, EmojiFont\; font-optical-sizing: inherit\; font-size-adjust: inherit\; font-kerning: inherit\; font-feature-settings: inherit\; font-variation-settings: inherit\; margin: 0px\; padding: 0px\; vertical-align: baseline\; color: inherit\;">Connect with Local Nonprofit Organizations and Agencies. Meet representatives from various organizations in need of volunteers like you.</span></span></p>\n							</li>\n							<li>\n							<p style="margin-bottom: 0px\; padding: 0px\; word-break: break-word\; font-size: 16px\; line-height: 1.5\; direction: ltr\; margin-top: 0px !important\; margin-right: 0px !important\; margin-left: 0px !important\;"><span style="border: 0px\; font: inherit\; margin: 0px\; padding: 0px\; vertical-align: baseline\;"><span style="border: 0px\; font-style: inherit\; font-variant: inherit\; font-weight: inherit\; font-stretch: inherit\; font-size: inherit\; line-height: inherit\; font-family: &quot\;Helvetica Neue&quot\;\, Helvetica\, Arial\, Verdana\, sans-serif\, serif\, EmojiFont\; font-optical-sizing: inherit\; font-size-adjust: inherit\; font-kerning: inherit\; font-feature-settings: inherit\; font-variation-settings: inherit\; margin: 0px\; padding: 0px\; vertical-align: baseline\; color: inherit\;">Explore Volunteer Opportunities: Discover roles that align with your interests and availability.</span></span></p>\n							</li>\n							<li>\n							<p style="margin-bottom: 0px\; padding: 0px\; word-break: break-word\; font-size: 16px\; line-height: 1.5\; direction: ltr\; margin-top: 0px !important\; margin-right: 0px !important\; margin-left: 0px !important\;"><span style="border: 0px\; font: inherit\; margin: 0px\; padding: 0px\; vertical-align: baseline\;"><span style="border: 0px\; font-style: inherit\; font-variant: inherit\; font-weight: inherit\; font-stretch: inherit\; font-size: inherit\; line-height: inherit\; font-family: &quot\;Helvetica Neue&quot\;\, Helvetica\, Arial\, Verdana\, sans-serif\, serif\, EmojiFont\; font-optical-sizing: inherit\; font-size-adjust: inherit\; font-kerning: inherit\; font-feature-settings: inherit\; font-variation-settings: inherit\; margin: 0px\; padding: 0px\; vertical-align: baseline\; color: inherit\;">Make an Impact: Learn how your unique skills and passions can benefit the greater good.</span></span></p>\n							</li>\n						</ul>\n\n						<p style="margin: 0px\; padding: 0px\; word-break: break-word\; font-size: 16px\; line-height: 1.5\; direction: ltr\;">&nbsp\;</p>\n\n						<h4 style="margin: 0px\; padding: 0px\; font-size: 16px\; font-weight: bold\; line-height: 1.5\; direction: ltr\;"><span style="border: 0px\; font: inherit\; margin: 0px\; padding: 0px\; vertical-align: baseline\; color: rgb(0\, 144\, 211)\;">Event Details:</span></h4>\n\n						<ul style="margin-bottom: 0px\;">\n							<li>\n							<p style="margin-bottom: 0px\; padding: 0px\; word-break: break-word\; font-size: 16px\; line-height: 1.5\; direction: ltr\; margin-top: 0px !important\; margin-right: 0px !important\; margin-left: 0px !important\;"><strong><span style="border: 0px\; font: inherit\; margin: 0px\; padding: 0px\; vertical-align: baseline\; color: rgb(0\, 144\, 211)\;">Date:</span></strong><span style="border: 0px\; font: inherit\; margin: 0px\; padding: 0px\; vertical-align: baseline\; color: rgb(0\, 144\, 211)\;">&nbsp\;</span>Tuesday\, March 11\, 2025</p>\n							</li>\n							<li>\n							<p style="margin-bottom: 0px\; padding: 0px\; word-break: break-word\; font-size: 16px\; line-height: 1.5\; direction: ltr\; margin-top: 0px !important\; margin-right: 0px !important\; margin-left: 0px !important\;"><strong><span style="border: 0px\; font: inherit\; margin: 0px\; padding: 0px\; vertical-align: baseline\; color: rgb(0\, 144\, 211)\;">Time:</span></strong>&nbsp\;4:00-7:00 p.m.</p>\n							</li>\n							<li>\n							<p style="margin-bottom: 0px\; padding: 0px\; word-break: break-word\; font-size: 16px\; line-height: 1.5\; direction: ltr\; margin-top: 0px !important\; margin-right: 0px !important\; margin-left: 0px !important\;"><strong><span style="border: 0px\; font: inherit\; margin: 0px\; padding: 0px\; vertical-align: baseline\; color: rgb(0\, 144\, 211)\;">Location:</span></strong>&nbsp\;Flanagan Center\, 61 Limerock St.\, Rockland</p>\n							</li>\n							<li>\n							<p style="margin-bottom: 0px\; padding: 0px\; word-break: break-word\; font-size: 16px\; line-height: 1.5\; direction: ltr\; margin-top: 0px !important\; margin-right: 0px !important\; margin-left: 0px !important\;"><strong><span style="border: 0px\; font: inherit\; margin: 0px\; padding: 0px\; vertical-align: baseline\; color: rgb(0\, 144\, 211)\;">FREE</span></strong><span style="border: 0px\; font: inherit\; margin: 0px\; padding: 0px\; vertical-align: baseline\; color: rgb(0\, 144\, 211)\;">&nbsp\;</span>to attend\, all ages welcome.</p>\n							</li>\n						</ul>\n\n						<p style="margin: 0px\; padding: 0px\; word-break: break-word\; font-size: 16px\; line-height: 1.5\; direction: ltr\;">&nbsp\;</p>\n\n						<p class="x_last-child" style="margin: 0px\; padding: 0px\; word-break: break-word\; font-size: 16px\; line-height: 1.5\; direction: ltr\;">The City of Rockland initiated this event two years ago and has handed it over to UMC. We have embraced it to further our mission of supporting local nonprofits. While the expo primarily serves the Knox County region\, we are excited to explore the possibility of hosting a similar expo in Belfast to boost support for Waldo County nonprofits.</p>\n						</div>\n						</td>\n					</tr>\n				</tbody>\n			</table>\n			</td>\n		</tr>\n	</tbody>\n</table>\n
LOCATION:
UID:e.3098.10138
SEQUENCE:3
DTSTAMP:20260422T191024Z
URL:https://business.belfastmaine.org/events/details/umc-volunteer-recruitment-expo-10138
END:VEVENT

END:VCALENDAR
