BEGIN:VCALENDAR
VERSION:2.0
PRODID:-//ChamberMaster//Event Calendar 2.0//EN
METHOD:PUBLISH
X-PUBLISHED-TTL:P3D
REFRESH-INTERVAL:P3D
CALSCALE:GREGORIAN
BEGIN:VEVENT
DTSTART:20190615T130000Z
DTEND:20190615T180000Z
X-MICROSOFT-CDO-ALLDAYEVENT:FALSE
SUMMARY:United Farmers Market of Maine
DESCRIPTION:
X-ALT-DESC;FMTTYPE=text/html:
LOCATION:
UID:e.3098.1073
SEQUENCE:3
DTSTAMP:20260423T125551Z
URL:https://business.belfastmaine.org/events/details/united-farmers-market-of-belfast-06-15-2019-1073
END:VEVENT

END:VCALENDAR
