BEGIN:VCALENDAR
VERSION:2.0
PRODID:-//ChamberMaster//Event Calendar 2.0//EN
METHOD:PUBLISH
X-PUBLISHED-TTL:P3D
REFRESH-INTERVAL:P3D
CALSCALE:GREGORIAN
BEGIN:VEVENT
DTSTART:20190510T210000Z
DTEND:20190511T010000Z
X-MICROSOFT-CDO-ALLDAYEVENT:FALSE
SUMMARY:Waldo County Republicans Spring Fling
DESCRIPTION:Meet your neighbors in a beautiful relaxed setting with motivational guest speakers. Featuring an array of splendid cuisine samplings\, Cash bar\, Harpist and Dessert samplings. Auction and 50/50 raffle. Speakers: Bruce Poliquin: 2015-2018 2nd District Congressman Demi Kouzounas: Chairman Maine GOP Nick Isgro: Vice Chairman Maine GOP\, Waterville ME Mayor
X-ALT-DESC;FMTTYPE=text/html:Meet your neighbors in a beautiful relaxed setting with motivational guest speakers. Featuring an array of splendid cuisine samplings\, Cash bar\, Harpist and Dessert samplings. Auction and 50/50 raffle. Speakers: Bruce Poliquin: 2015-2018 2nd District Congressman Demi Kouzounas: Chairman Maine GOP Nick Isgro: Vice Chairman Maine GOP\, Waterville ME Mayor
LOCATION:18 Spring St.\, Belfast ME 04915 United Farmers Market of Maine
UID:e.3098.1431
SEQUENCE:3
DTSTAMP:20260423T143527Z
URL:https://business.belfastmaine.org/events/details/waldo-county-republicans-spring-fling-1431
END:VEVENT

END:VCALENDAR
