BEGIN:VCALENDAR
VERSION:2.0
PRODID:-//ChamberMaster//Event Calendar 2.0//EN
METHOD:PUBLISH
X-PUBLISHED-TTL:P3D
REFRESH-INTERVAL:P3D
CALSCALE:GREGORIAN
BEGIN:VEVENT
DTSTART:20211114T210000Z
DTEND:20211114T230000Z
X-MICROSOFT-CDO-ALLDAYEVENT:FALSE
SUMMARY:Wild & Scenic Film Festival
DESCRIPTION:Join us for this virtual film festival\, offered in partnership between Midcoast Conservancy and Coastal Mountains Land Trust. The Wild & Scenic Film Festival will leave you feeling inspired and motivated to go out and make a difference in your community and the world. In eight short films\, witness how individuals and communities across the globe are taking action and becoming part of the solution on issues ranging from energy\, food systems\, biodiversity\, climate change and the protection and restoration of wild lands and wild waters. Ticket holders have 5 days after the event to watch the films.
X-ALT-DESC;FMTTYPE=text/html:Join us for this virtual film festival\, offered in partnership between Midcoast Conservancy and Coastal Mountains Land Trust. The Wild &amp\; Scenic Film Festival will leave you feeling inspired and motivated to go out and make a difference in your community and the world. In eight short films\, witness how individuals and communities across the globe are taking action and becoming part of the solution on issues ranging from energy\, food systems\, biodiversity\, climate change and the protection and restoration of wild lands and wild waters. Ticket holders have 5 days after the event to watch the films.
LOCATION:Virtual (your home)
UID:e.3098.4157
SEQUENCE:3
DTSTAMP:20260422T122740Z
URL:https://business.belfastmaine.org/events/details/wild-scenic-film-festival-4157
END:VEVENT

END:VCALENDAR
