BEGIN:VCALENDAR
VERSION:2.0
PRODID:-//ChamberMaster//Event Calendar 2.0//EN
METHOD:PUBLISH
X-PUBLISHED-TTL:P3D
REFRESH-INTERVAL:P3D
CALSCALE:GREGORIAN
BEGIN:VEVENT
DTSTART:20250308T150000Z
DTEND:20250308T210000Z
X-MICROSOFT-CDO-ALLDAYEVENT:FALSE
SUMMARY:Winter Education Lecture Series: The TIGER MOTH Will Fly Again
DESCRIPTION:Join the Owls Head Transportation Museum to learn about our newest aviation restoration project! OHTM's Pilots\, Brad Carter\, and Nick Knobil will share the special history of the 1940 de Havilland Tiger Moth. This airplane holds a special story to OHTM and the Lombard family\, who will tell in-depth tales of flying\, crashes\, exploration\, and pioneering. This lecture will close with a special screening of Lombard's father taking a flight to Alaska from Boston in 1930 this private viewing is a hidden gem to OHTM and will only be shared on special occasions like this lecture. With great support for the Lombard family he is donating $35\,000 to the Tiger Moth Restoration project\, if you are moved to get involved after listening to this lecture we ask for you to join the match by donating to this project to see the moth fly again!\n\n \n\nOHTM will also be lifting the hoods on all the historic vehicles in the collection\, giving the public a rare\, up-close look at their innerworkings. Don't miss your chance to see and learn about what makes these vehicles so remarkable   this is a program unlike any other! STEM activities will accompany the event making it fun for the whole family! Free for members or with museum admission.
X-ALT-DESC;FMTTYPE=text/html:<p><span style="font-size:16px"><span style="background-color:transparent\; color:rgb(53\, 48\, 49)\; font-family:arial\,sans-serif">Join the Owls Head Transportation Museum to learn about our newest aviation restoration project! OHTM&rsquo\;s Pilots\, Brad Carter\, and Nick Knobil will share the special history of the 1940 de Havilland Tiger Moth. This airplane holds a special story to OHTM and the Lombard family\, who will tell in-depth tales of flying\, crashes\, exploration\, and pioneering. This lecture will close with a special screening of Lombard&rsquo\;s father taking a flight to Alaska from Boston in&nbsp\;</span><span style="background-color:transparent\; color:rgb(53\, 48\, 49)\; font-family:arial\,sans-serif">1930&mdash\;this private viewing is a hidden gem to OHTM and will only be shared on special occasions like this lecture. With great support for the Lombard family he is donating $35\,000 to the Tiger Moth Restoration project\, if you are moved to get involved after listening to this lecture we ask for you to join the match by donating to this project to see the moth fly again!</span></span></p>\n\n<p>&nbsp\;</p>\n\n<p><span style="font-size:16px">OHTM will also be lifting the hoods on all the historic vehicles in the collection\, giving the public a rare\, up-close look at their innerworkings. Don&#39\;t miss your chance to see and learn about what makes these vehicles so remarkable &ndash\; this is a program unlike any other! STEM activities will accompany the event making it fun for the whole family! Free for members or with museum admission.&nbsp\;</span></p>\n\n<div>&nbsp\;</div>\n
LOCATION:Owls Head Transportation Museum - Transportation Hangar 117 Museum St. Owls Head\, Maine 04854 United States
UID:e.3098.10168
SEQUENCE:3
DTSTAMP:20260422T190929Z
URL:https://business.belfastmaine.org/events/details/winter-education-lecture-series-the-tiger-moth-will-fly-again-10168
END:VEVENT

END:VCALENDAR
