BEGIN:VCALENDAR
VERSION:2.0
PRODID:-//ChamberMaster//Event Calendar 2.0//EN
METHOD:PUBLISH
X-PUBLISHED-TTL:P3D
REFRESH-INTERVAL:P3D
CALSCALE:GREGORIAN
BEGIN:VEVENT
DTSTART;VALUE=DATE:20200201
DTEND;VALUE=DATE:20200203
TRANSP:TRANSPARENT
X-MICROSOFT-CDO-ALLDAYEVENT:TRUE
SUMMARY:Winter Whoopla!
DESCRIPTION:Welcome to Belfast's Winter Whoopla! Events happen all day\, including:\n\n	Pancake Breakfast Fundraiser hosted by the Waldo County YMCA\n	Our Town Belfast Cabin Reliever Sale (downtown Belfast)\n	Build a Snowman Photo Contest (runs Dec. 14-Jan. 30)\n	Sledding on the Commons\n	Snow Painting on the Commons\n	Bingo Hike/Walk - win 2 lift passes to Camden Snow Bowl\n	Mini Golf Fundraiser hosted by Overlock Skate Park\n	Snowshoeing and S'mores\n	3rd Annual Chili Cook Off - Adding Chowder this year!\n	2nd Annual Cornhole Tournament\n	Christmas Tree Bonfire\n\nEvents will continue to be added\, so check our Facebook page for the most up to date information!
X-ALT-DESC;FMTTYPE=text/html:Welcome to Belfast&#39\;s Winter Whoopla! Events happen all day\, including:\n<ul>\n	<li>Pancake Breakfast Fundraiser hosted by the Waldo County YMCA</li>\n	<li>Our Town Belfast Cabin Reliever Sale (downtown Belfast)</li>\n	<li>Build a Snowman Photo Contest (runs Dec. 14-Jan. 30)</li>\n	<li>Sledding on the Commons</li>\n	<li>Snow Painting on the Commons</li>\n	<li>Bingo Hike/Walk - win 2 lift passes to Camden Snow Bowl</li>\n	<li>Mini Golf Fundraiser hosted by Overlock Skate Park</li>\n	<li>Snowshoeing and S&#39\;mores</li>\n	<li>3rd Annual Chili Cook Off - Adding Chowder this year!</li>\n	<li>2nd Annual Cornhole Tournament</li>\n	<li>Christmas Tree Bonfire</li>\n</ul>\nEvents will continue to be added\, so check our <a href="https://www.facebook.com/BelfastAreaChamberofCommerce/">Facebook page</a> for the most up to date information!
LOCATION:Belfast
UID:e.3098.2659
SEQUENCE:3
DTSTAMP:20260420T202913Z
URL:https://business.belfastmaine.org/events/details/winter-whoopla-2659
END:VEVENT

END:VCALENDAR
