BEGIN:VCALENDAR
VERSION:2.0
PRODID:-//ChamberMaster//Event Calendar 2.0//EN
METHOD:PUBLISH
X-PUBLISHED-TTL:P3D
REFRESH-INTERVAL:P3D
CALSCALE:GREGORIAN
BEGIN:VEVENT
DTSTART:20200722T120000Z
DTEND:20200724T210000Z
X-MICROSOFT-CDO-ALLDAYEVENT:FALSE
SUMMARY:Women's Sea Kayaking: Muscongus Bay
DESCRIPTION:Known for an exceptional amount of lobster buoys\, beautiful islands\, seal colonies\, sea bird populations and camping opportunities Muscongus is a paddlers dream. We will spend two nights on one of the outer islands exploring the emerald green waters and remote wild islands.
X-ALT-DESC;FMTTYPE=text/html:<span style="color: rgb(29\, 33\, 41)\; font-family: Helvetica\, Arial\, sans-serif\; font-size: 14px\; white-space: pre-wrap\;">Known for an exceptional amount of lobster buoys\, beautiful islands\, seal colonies\, sea bird populations and camping opportunities Muscongus is a paddlers dream. We will spend two nights on one of the outer islands exploring the emerald green waters and remote wild islands. </span>
LOCATION:
UID:e.3098.3327
SEQUENCE:3
DTSTAMP:20260422T141615Z
URL:https://business.belfastmaine.org/events/details/women-s-sea-kayaking-muscongus-bay-3327
END:VEVENT

END:VCALENDAR
